BEGIN:VCALENDAR
VERSION:2.0
PRODID:-//Rainbow Acres Campground - ECPv6.15.20//NONSGML v1.0//EN
CALSCALE:GREGORIAN
METHOD:PUBLISH
X-ORIGINAL-URL:https://www.rainbowacrescampground.com
X-WR-CALDESC:Events for Rainbow Acres Campground
REFRESH-INTERVAL;VALUE=DURATION:PT1H
X-Robots-Tag:noindex
X-PUBLISHED-TTL:PT1H
BEGIN:VTIMEZONE
TZID:UTC
BEGIN:STANDARD
TZOFFSETFROM:+0000
TZOFFSETTO:+0000
TZNAME:UTC
DTSTART:20200101T000000
END:STANDARD
END:VTIMEZONE
BEGIN:VEVENT
DTSTART;TZID=UTC:20220924T200000
DTEND;TZID=UTC:20220924T230000
DTSTAMP:20260420T005545
CREATED:20220307T160015Z
LAST-MODIFIED:20220307T160015Z
UID:1626-1664049600-1664060400@www.rainbowacrescampground.com
SUMMARY:Dance w/ CK MUSIC BAND
DESCRIPTION:
URL:https://www.rainbowacrescampground.com/event/dance-w-ck-music-band/
END:VEVENT
BEGIN:VEVENT
DTSTART;TZID=UTC:20220910T200000
DTEND;TZID=UTC:20220910T230000
DTSTAMP:20260420T005545
CREATED:20220307T155940Z
LAST-MODIFIED:20220307T155940Z
UID:1624-1662840000-1662850800@www.rainbowacrescampground.com
SUMMARY:Movie Night
DESCRIPTION:
URL:https://www.rainbowacrescampground.com/event/movie-night-4/
END:VEVENT
BEGIN:VEVENT
DTSTART;TZID=UTC:20220903T200000
DTEND;TZID=UTC:20220903T230000
DTSTAMP:20260420T005545
CREATED:20220307T155909Z
LAST-MODIFIED:20220307T155909Z
UID:1622-1662235200-1662246000@www.rainbowacrescampground.com
SUMMARY:Dance w/ DJ 30 PLUS
DESCRIPTION:Dance w/ DJ 30 PLUS
URL:https://www.rainbowacrescampground.com/event/dance-w-dj-30-plus-2/
END:VEVENT
BEGIN:VEVENT
DTSTART;TZID=UTC:20220903T130000
DTEND;TZID=UTC:20220903T160000
DTSTAMP:20260420T005545
CREATED:20220307T155836Z
LAST-MODIFIED:20220307T155836Z
UID:1620-1662210000-1662220800@www.rainbowacrescampground.com
SUMMARY:Inflatable on Hill
DESCRIPTION:Inflatable on Hill 1-4pm
URL:https://www.rainbowacrescampground.com/event/inflatable-on-hill-3/
END:VEVENT
BEGIN:VEVENT
DTSTART;VALUE=DATE:20220902
DTEND;VALUE=DATE:20220906
DTSTAMP:20260420T005545
CREATED:20220307T155752Z
LAST-MODIFIED:20220307T155752Z
UID:1618-1662076800-1662422399@www.rainbowacrescampground.com
SUMMARY:Labor Day Weekend
DESCRIPTION:
URL:https://www.rainbowacrescampground.com/event/labor-day-weekend-9/
END:VEVENT
BEGIN:VEVENT
DTSTART;TZID=UTC:20220827T200000
DTEND;TZID=UTC:20220827T230000
DTSTAMP:20260420T005545
CREATED:20220307T155721Z
LAST-MODIFIED:20220307T155721Z
UID:1616-1661630400-1661641200@www.rainbowacrescampground.com
SUMMARY:Movie Night on Beach
DESCRIPTION:
URL:https://www.rainbowacrescampground.com/event/movie-night-on-beach-2/
END:VEVENT
BEGIN:VEVENT
DTSTART;VALUE=DATE:20220813
DTEND;VALUE=DATE:20220814
DTSTAMP:20260420T005545
CREATED:20220307T155641Z
LAST-MODIFIED:20220307T155641Z
UID:1614-1660348800-1660435199@www.rainbowacrescampground.com
SUMMARY:Private Event
DESCRIPTION:Private Event (tbd)
URL:https://www.rainbowacrescampground.com/event/private-event-2/
END:VEVENT
BEGIN:VEVENT
DTSTART;TZID=UTC:20220716T190000
DTEND;TZID=UTC:20220716T230000
DTSTAMP:20260420T005545
CREATED:20220307T155611Z
LAST-MODIFIED:20220307T155611Z
UID:1612-1657998000-1658012400@www.rainbowacrescampground.com
SUMMARY:KIDS Dance Party
DESCRIPTION:KIDS Dance Party w/ DJ Brian – 7pm
URL:https://www.rainbowacrescampground.com/event/kids-dance-party/
END:VEVENT
BEGIN:VEVENT
DTSTART;TZID=UTC:20220705T100000
DTEND;TZID=UTC:20220708T130000
DTSTAMP:20260420T005545
CREATED:20220307T155516Z
LAST-MODIFIED:20220307T155516Z
UID:1610-1657015200-1657285200@www.rainbowacrescampground.com
SUMMARY:Vacation Bible School
DESCRIPTION:Vacation Bible School\n10am – 1pm (snack provided)
URL:https://www.rainbowacrescampground.com/event/vacation-bible-school/
END:VEVENT
BEGIN:VEVENT
DTSTART;VALUE=DATE:20220704
DTEND;VALUE=DATE:20220705
DTSTAMP:20260420T005545
CREATED:20220307T155425Z
LAST-MODIFIED:20220307T155425Z
UID:1608-1656892800-1656979199@www.rainbowacrescampground.com
SUMMARY:Fourth Of July
DESCRIPTION:
URL:https://www.rainbowacrescampground.com/event/fourth-of-july/
END:VEVENT
BEGIN:VEVENT
DTSTART;TZID=UTC:20220703T200000
DTEND;TZID=UTC:20220703T230000
DTSTAMP:20260420T005545
CREATED:20220307T155354Z
LAST-MODIFIED:20220307T155354Z
UID:1606-1656878400-1656889200@www.rainbowacrescampground.com
SUMMARY:FIREWORKS
DESCRIPTION:
URL:https://www.rainbowacrescampground.com/event/fireworks-2/
END:VEVENT
BEGIN:VEVENT
DTSTART;TZID=UTC:20220703T140000
DTEND;TZID=UTC:20220703T170000
DTSTAMP:20260420T005545
CREATED:20220307T155305Z
LAST-MODIFIED:20220307T155305Z
UID:1604-1656856800-1656867600@www.rainbowacrescampground.com
SUMMARY:Golf Cart/Bike Parade
DESCRIPTION:Golf Cart/Bike Parade (Meet at office @ 2pm)
URL:https://www.rainbowacrescampground.com/event/golf-cart-bike-parade/
END:VEVENT
BEGIN:VEVENT
DTSTART;TZID=UTC:20220702T130000
DTEND;TZID=UTC:20220702T160000
DTSTAMP:20260420T005545
CREATED:20220307T155228Z
LAST-MODIFIED:20220307T155228Z
UID:1601-1656766800-1656777600@www.rainbowacrescampground.com
SUMMARY:Inflatable on Hill
DESCRIPTION:
URL:https://www.rainbowacrescampground.com/event/inflatable-on-hill-2/
END:VEVENT
BEGIN:VEVENT
DTSTART;VALUE=DATE:20220701
DTEND;VALUE=DATE:20220705
DTSTAMP:20260420T005545
CREATED:20220307T155153Z
LAST-MODIFIED:20220307T155153Z
UID:1599-1656633600-1656979199@www.rainbowacrescampground.com
SUMMARY:Fourth of July Weekend
DESCRIPTION:
URL:https://www.rainbowacrescampground.com/event/fourth-of-july-weekend-2/
END:VEVENT
BEGIN:VEVENT
DTSTART;VALUE=DATE:20220619
DTEND;VALUE=DATE:20220620
DTSTAMP:20260420T005545
CREATED:20220307T155117Z
LAST-MODIFIED:20220307T155117Z
UID:1597-1655596800-1655683199@www.rainbowacrescampground.com
SUMMARY:Father’s Day
DESCRIPTION:
URL:https://www.rainbowacrescampground.com/event/fathers-day-2/
END:VEVENT
BEGIN:VEVENT
DTSTART;TZID=UTC:20220618T200000
DTEND;TZID=UTC:20220618T230000
DTSTAMP:20260420T005545
CREATED:20220307T155045Z
LAST-MODIFIED:20220307T155045Z
UID:1595-1655582400-1655593200@www.rainbowacrescampground.com
SUMMARY:Father’s Day
DESCRIPTION:Father’s Day Dance w/ DJ Brian
URL:https://www.rainbowacrescampground.com/event/fathers-day/
END:VEVENT
BEGIN:VEVENT
DTSTART;TZID=UTC:20220528T200000
DTEND;TZID=UTC:20220528T230000
DTSTAMP:20260420T005545
CREATED:20220307T154947Z
LAST-MODIFIED:20220307T154947Z
UID:1593-1653768000-1653778800@www.rainbowacrescampground.com
SUMMARY:Dance w/ DJ 30 PLUS
DESCRIPTION:Dance w/ DJ 30 PLUS
URL:https://www.rainbowacrescampground.com/event/dance-w-dj-30-plus/
END:VEVENT
BEGIN:VEVENT
DTSTART;TZID=UTC:20220528T130000
DTEND;TZID=UTC:20220528T160000
DTSTAMP:20260420T005545
CREATED:20220307T154908Z
LAST-MODIFIED:20220307T154908Z
UID:1591-1653742800-1653753600@www.rainbowacrescampground.com
SUMMARY:Inflatable on Hill
DESCRIPTION:Inflatable on Hill 1-4pm
URL:https://www.rainbowacrescampground.com/event/inflatable-on-hill/
END:VEVENT
BEGIN:VEVENT
DTSTART;VALUE=DATE:20220527
DTEND;VALUE=DATE:20220531
DTSTAMP:20260420T005545
CREATED:20220307T154822Z
LAST-MODIFIED:20220307T154822Z
UID:1589-1653609600-1653955199@www.rainbowacrescampground.com
SUMMARY:Memorial Day Weekend
DESCRIPTION:
URL:https://www.rainbowacrescampground.com/event/memorial-day-weekend-7/
END:VEVENT
BEGIN:VEVENT
DTSTART;TZID=UTC:20220521T130000
DTEND;TZID=UTC:20220521T170000
DTSTAMP:20260420T005545
CREATED:20220307T154751Z
LAST-MODIFIED:20220307T154751Z
UID:1587-1653138000-1653152400@www.rainbowacrescampground.com
SUMMARY:Texas Hold Em’
DESCRIPTION:1PM @Rec. Hall.\n(future Texas Hold Em’ dates will be based on participation)
URL:https://www.rainbowacrescampground.com/event/texas-hold-em-3/
END:VEVENT
BEGIN:VEVENT
DTSTART;VALUE=DATE:20220513
DTEND;VALUE=DATE:20220516
DTSTAMP:20260420T005545
CREATED:20220307T154709Z
LAST-MODIFIED:20220307T154709Z
UID:1585-1652400000-1652659199@www.rainbowacrescampground.com
SUMMARY:Private Event
DESCRIPTION:Rose’s Lawn\, and Rec. Hall will be CLOSED for a private Event
URL:https://www.rainbowacrescampground.com/event/private-event/
END:VEVENT
BEGIN:VEVENT
DTSTART;VALUE=DATE:20220508
DTEND;VALUE=DATE:20220509
DTSTAMP:20260420T005545
CREATED:20220307T154613Z
LAST-MODIFIED:20220307T154613Z
UID:1583-1651968000-1652054399@www.rainbowacrescampground.com
SUMMARY:Mother’s Day
DESCRIPTION:
URL:https://www.rainbowacrescampground.com/event/mothers-day/
END:VEVENT
BEGIN:VEVENT
DTSTART;TZID=UTC:20220507T200000
DTEND;TZID=UTC:20220507T220000
DTSTAMP:20260420T005545
CREATED:20220307T154548Z
LAST-MODIFIED:20220307T154548Z
UID:1581-1651953600-1651960800@www.rainbowacrescampground.com
SUMMARY:Mother’s Day Dance
DESCRIPTION:8pm w/ CK Music Band
URL:https://www.rainbowacrescampground.com/event/mothers-day-dance-3/
END:VEVENT
BEGIN:VEVENT
DTSTART;VALUE=DATE:20220417
DTEND;VALUE=DATE:20220418
DTSTAMP:20260420T005545
CREATED:20220307T154433Z
LAST-MODIFIED:20220307T154448Z
UID:1579-1650153600-1650239999@www.rainbowacrescampground.com
SUMMARY:Easter Sunday
DESCRIPTION:
URL:https://www.rainbowacrescampground.com/event/easter-sunday/
END:VEVENT
BEGIN:VEVENT
DTSTART;TZID=UTC:20220416T130000
DTEND;TZID=UTC:20220416T160000
DTSTAMP:20260420T005545
CREATED:20220307T154354Z
LAST-MODIFIED:20220307T154354Z
UID:1577-1650114000-1650124800@www.rainbowacrescampground.com
SUMMARY:Kids Activities
DESCRIPTION:Kids Activities 1pm-4pm
URL:https://www.rainbowacrescampground.com/event/kids-activities/
END:VEVENT
BEGIN:VEVENT
DTSTART;TZID=UTC:20220415T080000
DTEND;TZID=UTC:20220417T170000
DTSTAMP:20260420T005545
CREATED:20220307T154223Z
LAST-MODIFIED:20220307T154223Z
UID:1573-1650009600-1650214800@www.rainbowacrescampground.com
SUMMARY:Easter Weekend
DESCRIPTION:
URL:https://www.rainbowacrescampground.com/event/easter-weekend-7/
END:VEVENT
BEGIN:VEVENT
DTSTART;TZID=UTC:20220401T080000
DTEND;TZID=UTC:20220401T170000
DTSTAMP:20260420T005545
CREATED:20220307T154143Z
LAST-MODIFIED:20220307T154143Z
UID:1571-1648800000-1648832400@www.rainbowacrescampground.com
SUMMARY:2022 Season Begins
DESCRIPTION:
URL:https://www.rainbowacrescampground.com/event/2022-season-begins/
END:VEVENT
BEGIN:VEVENT
DTSTART;VALUE=DATE:20220325
DTEND;VALUE=DATE:20220328
DTSTAMP:20260420T005545
CREATED:20220307T154046Z
LAST-MODIFIED:20220307T154046Z
UID:1569-1648166400-1648425599@www.rainbowacrescampground.com
SUMMARY:Clean up weekend
DESCRIPTION:
URL:https://www.rainbowacrescampground.com/event/clean-up-weekend-5/
END:VEVENT
BEGIN:VEVENT
DTSTART;VALUE=DATE:20220307
DTEND;VALUE=DATE:20220308
DTSTAMP:20260420T005545
CREATED:20220307T154246Z
LAST-MODIFIED:20220307T154246Z
UID:1575-1646611200-1646697599@www.rainbowacrescampground.com
SUMMARY:Good Friday
DESCRIPTION:
URL:https://www.rainbowacrescampground.com/event/good-friday/
END:VEVENT
BEGIN:VEVENT
DTSTART;VALUE=DATE:20211106
DTEND;VALUE=DATE:20211107
DTSTAMP:20260420T005545
CREATED:20210225T190423Z
LAST-MODIFIED:20210914T170137Z
UID:1532-1636156800-1636243199@www.rainbowacrescampground.com
SUMMARY:RACR Thanksgiving
DESCRIPTION:RACR Thanksgiving (Dance)
URL:https://www.rainbowacrescampground.com/event/racr-thanksgiving/
END:VEVENT
END:VCALENDAR