BEGIN:VCALENDAR
VERSION:2.0
PRODID:-//Rainbow Acres Campground - ECPv6.15.20//NONSGML v1.0//EN
CALSCALE:GREGORIAN
METHOD:PUBLISH
X-ORIGINAL-URL:https://www.rainbowacrescampground.com
X-WR-CALDESC:Events for Rainbow Acres Campground
REFRESH-INTERVAL;VALUE=DURATION:PT1H
X-Robots-Tag:noindex
X-PUBLISHED-TTL:PT1H
BEGIN:VTIMEZONE
TZID:UTC
BEGIN:STANDARD
TZOFFSETFROM:+0000
TZOFFSETTO:+0000
TZNAME:UTC
DTSTART:20210101T000000
END:STANDARD
END:VTIMEZONE
BEGIN:VEVENT
DTSTART;TZID=UTC:20240608T080000
DTEND;TZID=UTC:20240608T170000
DTSTAMP:20260419T202749
CREATED:20240430T132736Z
LAST-MODIFIED:20240430T132736Z
UID:1698-1717833600-1717866000@www.rainbowacrescampground.com
SUMMARY:Texas Hold Em’ Tournament
DESCRIPTION:Texas Hold Em’ Tournament – (Details TBD)
URL:https://www.rainbowacrescampground.com/event/texas-hold-em-tournament/
END:VEVENT
BEGIN:VEVENT
DTSTART;TZID=UTC:20240525T130000
DTEND;TZID=UTC:20240525T160000
DTSTAMP:20260419T202749
CREATED:20240430T132659Z
LAST-MODIFIED:20240430T132659Z
UID:1696-1716642000-1716652800@www.rainbowacrescampground.com
SUMMARY:Memorial Weekend Beach Activities
DESCRIPTION:Blow Up Slide – 1-4 on Hill by Beach
URL:https://www.rainbowacrescampground.com/event/memorial-weekend-beach-activities/
END:VEVENT
BEGIN:VEVENT
DTSTART;VALUE=DATE:20240524
DTEND;VALUE=DATE:20240528
DTSTAMP:20260419T202749
CREATED:20240430T132549Z
LAST-MODIFIED:20240430T132600Z
UID:1693-1716508800-1716854399@www.rainbowacrescampground.com
SUMMARY:Memorial Day Weekend
DESCRIPTION:5/25 – Blow Up Slide – 1-4 on Hill by Beach
URL:https://www.rainbowacrescampground.com/event/memorial-day-weekend-8/
END:VEVENT
BEGIN:VEVENT
DTSTART;TZID=UTC:20240511T220000
DTEND;TZID=UTC:20240511T220000
DTSTAMP:20260419T202749
CREATED:20240430T132518Z
LAST-MODIFIED:20240430T132518Z
UID:1691-1715464800-1715464800@www.rainbowacrescampground.com
SUMMARY:BINGO
DESCRIPTION:BINGO – 8pm @ Rec. Hall.
URL:https://www.rainbowacrescampground.com/event/bingo-10/
END:VEVENT
BEGIN:VEVENT
DTSTART;VALUE=DATE:20240511
DTEND;VALUE=DATE:20240512
DTSTAMP:20260419T202749
CREATED:20240430T132428Z
LAST-MODIFIED:20240430T132439Z
UID:1689-1715385600-1715471999@www.rainbowacrescampground.com
SUMMARY:Campground Ministries Mother’s Day Tea
DESCRIPTION:Campground Ministries Mother’s Day Tea w/ Brunch (Details TBD)
URL:https://www.rainbowacrescampground.com/event/campground-ministries-mothers-day-tea/
END:VEVENT
BEGIN:VEVENT
DTSTART;VALUE=DATE:20231115
DTEND;VALUE=DATE:20231116
DTSTAMP:20260419T202749
CREATED:20230321T162457Z
LAST-MODIFIED:20230321T162457Z
UID:1682-1700006400-1700092799@www.rainbowacrescampground.com
SUMMARY:Season Ends
DESCRIPTION:
URL:https://www.rainbowacrescampground.com/event/season-ends/
END:VEVENT
BEGIN:VEVENT
DTSTART;TZID=UTC:20231104T140000
DTEND;TZID=UTC:20231104T190000
DTSTAMP:20260419T202749
CREATED:20230321T162419Z
LAST-MODIFIED:20230321T162419Z
UID:1680-1699106400-1699124400@www.rainbowacrescampground.com
SUMMARY:RACR’S THANKSGIVING
DESCRIPTION:RACR’S THANKSGIVING\n@rec hall (2pm) * sign up sheet will be in store\n7:30pm BINGO
URL:https://www.rainbowacrescampground.com/event/racrs-thanksgiving/
END:VEVENT
BEGIN:VEVENT
DTSTART;VALUE=DATE:20231103
DTEND;VALUE=DATE:20231105
DTSTAMP:20260419T202749
CREATED:20230321T162311Z
LAST-MODIFIED:20230321T162311Z
UID:1678-1698969600-1699142399@www.rainbowacrescampground.com
SUMMARY:Urbanna Oyster Festival
DESCRIPTION:
URL:https://www.rainbowacrescampground.com/event/urbanna-oyster-festival-6/
END:VEVENT
BEGIN:VEVENT
DTSTART;VALUE=DATE:20231027
DTEND;VALUE=DATE:20231030
DTSTAMP:20260419T202749
CREATED:20230321T162240Z
LAST-MODIFIED:20230321T162240Z
UID:1676-1698364800-1698623999@www.rainbowacrescampground.com
SUMMARY:HALLOWEEN WEEKEND
DESCRIPTION:28th 10:30 am- Pumpkin Painting\n1pm-3pm – HALLOWEEN Games @ Playground\n5pm-7pm – Trick or Treating\n8 pm COSTUME CONTEST FOR ALL @ Rec Hall\n9 pm HAYRIDE TO ??????
URL:https://www.rainbowacrescampground.com/event/halloween-weekend-9/
END:VEVENT
BEGIN:VEVENT
DTSTART;VALUE=DATE:20231001
DTEND;VALUE=DATE:20231030
DTSTAMP:20260419T202749
CREATED:20230321T162137Z
LAST-MODIFIED:20230321T162137Z
UID:1674-1696118400-1698623999@www.rainbowacrescampground.com
SUMMARY:DECORATE YOUR CAMPSITE FOR HALLOWEEN Contest
DESCRIPTION:DECORATE YOUR CAMPSITE FOR HALLOWEEN\nContest – prize awarded.
URL:https://www.rainbowacrescampground.com/event/decorate-your-campsite-for-halloween-contest/
END:VEVENT
BEGIN:VEVENT
DTSTART;VALUE=DATE:20230922
DTEND;VALUE=DATE:20231002
DTSTAMP:20260419T202749
CREATED:20230321T162029Z
LAST-MODIFIED:20230321T162029Z
UID:1672-1695340800-1696204799@www.rainbowacrescampground.com
SUMMARY:VIRGINIA STATE FAIR
DESCRIPTION:
URL:https://www.rainbowacrescampground.com/event/virginia-state-fair/
END:VEVENT
BEGIN:VEVENT
DTSTART;VALUE=DATE:20230901
DTEND;VALUE=DATE:20230905
DTSTAMP:20260419T202749
CREATED:20230321T161955Z
LAST-MODIFIED:20230321T161955Z
UID:1670-1693526400-1693871999@www.rainbowacrescampground.com
SUMMARY:LABOR DAY WEEKEND
DESCRIPTION:2ND Kid Activities and water slide (1-4pm) @ the main house\n2nd CK Band (return visit) will play on the BEACH 8-11pm\nBonfire (if a cool evening)
URL:https://www.rainbowacrescampground.com/event/labor-day-weekend-10/
END:VEVENT
BEGIN:VEVENT
DTSTART;TZID=UTC:20230826T203000
DTEND;TZID=UTC:20230826T230000
DTSTAMP:20260419T202749
CREATED:20230321T161859Z
LAST-MODIFIED:20230321T161859Z
UID:1668-1693081800-1693090800@www.rainbowacrescampground.com
SUMMARY:Movie on the Beach
DESCRIPTION:8:30 pm Movie on the Beach (weather permitting)
URL:https://www.rainbowacrescampground.com/event/movie-on-the-beach-2/
END:VEVENT
BEGIN:VEVENT
DTSTART;TZID=UTC:20230805T193000
DTEND;TZID=UTC:20230805T213000
DTSTAMP:20260419T202749
CREATED:20230321T161807Z
LAST-MODIFIED:20230321T161807Z
UID:1666-1691263800-1691271000@www.rainbowacrescampground.com
SUMMARY:BINGO
DESCRIPTION:7:30 pm BINGO in Rec Hall
URL:https://www.rainbowacrescampground.com/event/bingo-9/
END:VEVENT
BEGIN:VEVENT
DTSTART;TZID=UTC:20230703T100000
DTEND;TZID=UTC:20230707T130000
DTSTAMP:20260419T202749
CREATED:20230321T161711Z
LAST-MODIFIED:20230321T161711Z
UID:1664-1688378400-1688734800@www.rainbowacrescampground.com
SUMMARY:Vacation Bible School
DESCRIPTION:VBS will be back in full swing – All children 3+ welcome\nIn the rec hall from 10am to 1pm (snacks included)\nWith Ms. Mandy and Mrs. Simone
URL:https://www.rainbowacrescampground.com/event/vacation-bible-school-2/
END:VEVENT
BEGIN:VEVENT
DTSTART;VALUE=DATE:20230630
DTEND;VALUE=DATE:20230705
DTSTAMP:20260419T202749
CREATED:20230321T161606Z
LAST-MODIFIED:20230321T161606Z
UID:1662-1688083200-1688515199@www.rainbowacrescampground.com
SUMMARY:JULY FOURTH WEEKEND!!
DESCRIPTION:1ST Beach Party with DJ 30 Plus (1pm – 4pm)\nRiver Run Obstacle Course with pool (1pm – 4pm)\nVolleyball and Cornhole will be available. \n2nd 7am -11am On Cracked Yolk Food Truck (main house)\n(Serving delicious breakfast to get our day going)\n11am -12:30pm Its’s our Patriotic Day – Red\, White & Blue\nOur annual decorating of golf carts or bikes – this year the best decorated will win a small prize\n1:30pm All golf cart/bikes meet up at Store/Office for line-up\n2pm Golf Cart Parade throughout the grounds\nEnding at the main house for raising of the flag\nHAPPY BIRTHDAY AMERICA!!\n7:30pm Gate Open for visitors.\nTO EVERYONE PLEASE GIVE A DONATION TOWARDS OUR LOCAL EMERGENCY DEPARTMENTS OF $10.00.\n9PM – FIREWORKS!!!!!
URL:https://www.rainbowacrescampground.com/event/july-fourth-weekend/
END:VEVENT
BEGIN:VEVENT
DTSTART;TZID=UTC:20230624T210000
DTEND;TZID=UTC:20230624T230000
DTSTAMP:20260419T202749
CREATED:20230321T161343Z
LAST-MODIFIED:20230321T161343Z
UID:1660-1687640400-1687647600@www.rainbowacrescampground.com
SUMMARY:Movie on the Beach
DESCRIPTION:Movie on the Beach (weather permitted)
URL:https://www.rainbowacrescampground.com/event/movie-on-the-beach/
END:VEVENT
BEGIN:VEVENT
DTSTART;VALUE=DATE:20230618
DTEND;VALUE=DATE:20230619
DTSTAMP:20260419T202749
CREATED:20230321T161248Z
LAST-MODIFIED:20230321T161248Z
UID:1658-1687046400-1687132799@www.rainbowacrescampground.com
SUMMARY:Father’s Day
DESCRIPTION:
URL:https://www.rainbowacrescampground.com/event/fathers-day-3/
END:VEVENT
BEGIN:VEVENT
DTSTART;VALUE=DATE:20230602
DTEND;VALUE=DATE:20230605
DTSTAMP:20260419T202749
CREATED:20230321T161219Z
LAST-MODIFIED:20230321T161219Z
UID:1656-1685664000-1685923199@www.rainbowacrescampground.com
SUMMARY:Free Fishing Days
DESCRIPTION:Free Fishing Days (Everyone can fish these days without a license)
URL:https://www.rainbowacrescampground.com/event/free-fishing-days/
END:VEVENT
BEGIN:VEVENT
DTSTART;VALUE=DATE:20230526
DTEND;VALUE=DATE:20230530
DTSTAMP:20260419T202749
CREATED:20230321T161131Z
LAST-MODIFIED:20230321T161131Z
UID:1654-1685059200-1685404799@www.rainbowacrescampground.com
SUMMARY:Memorial Weekend
DESCRIPTION:27th * Bounce House w/ kiddy pool (1pm – 4pm)\n• Music on the beach by DJ Brian (1pm – 4pm)\n• (7pm) Bingo in Rec Hall – All is welcome\n28th * (2pm) Paint and Popcorn social in Rec Hall\n(bring your favorite drink(s)
URL:https://www.rainbowacrescampground.com/event/memorial-weekend/
END:VEVENT
BEGIN:VEVENT
DTSTART;VALUE=DATE:20230514
DTEND;VALUE=DATE:20230515
DTSTAMP:20260419T202749
CREATED:20230321T161051Z
LAST-MODIFIED:20230321T161051Z
UID:1652-1684022400-1684108799@www.rainbowacrescampground.com
SUMMARY:Mother’s Day
DESCRIPTION:
URL:https://www.rainbowacrescampground.com/event/mothers-day-2/
END:VEVENT
BEGIN:VEVENT
DTSTART;VALUE=DATE:20230407
DTEND;VALUE=DATE:20230410
DTSTAMP:20260419T202749
CREATED:20230321T161019Z
LAST-MODIFIED:20230321T161019Z
UID:1650-1680825600-1681084799@www.rainbowacrescampground.com
SUMMARY:Easter Weekend
DESCRIPTION:• 11am- 12am: Easter Craft.\n• 3pm Games; Egg Hunt for kids and visit w/ the Easter Bunny (main house lawn)\n• 8 pm (ADULT TIME) Scavenger Hunt for the Basket (meet at Rec. Hall) 21+
URL:https://www.rainbowacrescampground.com/event/easter-weekend-8/
END:VEVENT
BEGIN:VEVENT
DTSTART;VALUE=DATE:20230324
DTEND;VALUE=DATE:20230327
DTSTAMP:20260419T202749
CREATED:20230321T160433Z
LAST-MODIFIED:20230321T160433Z
UID:1648-1679616000-1679875199@www.rainbowacrescampground.com
SUMMARY:Clean up weekend
DESCRIPTION:24th -26th Clean up weekend\n25th Welcome Back and enjoy Hot Dogs @ the Rec Hall (5pm)\n(Bring a side dish)
URL:https://www.rainbowacrescampground.com/event/clean-up-weekend-6/
END:VEVENT
BEGIN:VEVENT
DTSTART;VALUE=DATE:20221115
DTEND;VALUE=DATE:20221116
DTSTAMP:20260419T202749
CREATED:20220307T160423Z
LAST-MODIFIED:20220307T160423Z
UID:1640-1668470400-1668556799@www.rainbowacrescampground.com
SUMMARY:END of 2022 Season
DESCRIPTION:
URL:https://www.rainbowacrescampground.com/event/end-of-2022-season/
END:VEVENT
BEGIN:VEVENT
DTSTART;VALUE=DATE:20221105
DTEND;VALUE=DATE:20221106
DTSTAMP:20260419T202749
CREATED:20220307T160400Z
LAST-MODIFIED:20220307T160400Z
UID:1638-1667606400-1667692799@www.rainbowacrescampground.com
SUMMARY:RACR Thanksgiving
DESCRIPTION:
URL:https://www.rainbowacrescampground.com/event/racr-thanksgiving-2/
END:VEVENT
BEGIN:VEVENT
DTSTART;TZID=UTC:20221029T200000
DTEND;TZID=UTC:20221029T230000
DTSTAMP:20260419T202749
CREATED:20220307T160251Z
LAST-MODIFIED:20220307T160251Z
UID:1634-1667073600-1667084400@www.rainbowacrescampground.com
SUMMARY:Dance w/ DJ BRIAN
DESCRIPTION:
URL:https://www.rainbowacrescampground.com/event/dance-w-dj-brian/
END:VEVENT
BEGIN:VEVENT
DTSTART;TZID=UTC:20221029T170000
DTEND;TZID=UTC:20221029T200000
DTSTAMP:20260419T202749
CREATED:20220307T160214Z
LAST-MODIFIED:20220307T160214Z
UID:1632-1667062800-1667073600@www.rainbowacrescampground.com
SUMMARY:Trick or Treating
DESCRIPTION:Trick or Treating 5-8pm
URL:https://www.rainbowacrescampground.com/event/trick-or-treating/
END:VEVENT
BEGIN:VEVENT
DTSTART;TZID=UTC:20221029T130000
DTEND;TZID=UTC:20221029T160000
DTSTAMP:20260419T202749
CREATED:20220307T160130Z
LAST-MODIFIED:20220307T160130Z
UID:1630-1667048400-1667059200@www.rainbowacrescampground.com
SUMMARY:Kids Activities
DESCRIPTION:Kids Activities 1-4pm
URL:https://www.rainbowacrescampground.com/event/kids-activities-2/
END:VEVENT
BEGIN:VEVENT
DTSTART;VALUE=DATE:20221029
DTEND;VALUE=DATE:20221030
DTSTAMP:20260419T202749
CREATED:20220307T160330Z
LAST-MODIFIED:20220307T160330Z
UID:1636-1667001600-1667087999@www.rainbowacrescampground.com
SUMMARY:Costume Contest
DESCRIPTION:– Kids Costume Contest\n– Adult Costume Contest
URL:https://www.rainbowacrescampground.com/event/costume-contest/
END:VEVENT
BEGIN:VEVENT
DTSTART;VALUE=DATE:20221028
DTEND;VALUE=DATE:20221031
DTSTAMP:20260419T202749
CREATED:20220307T160047Z
LAST-MODIFIED:20220307T160047Z
UID:1628-1666915200-1667174399@www.rainbowacrescampground.com
SUMMARY:Halloween Weekend
DESCRIPTION:
URL:https://www.rainbowacrescampground.com/event/halloween-weekend-8/
END:VEVENT
END:VCALENDAR