BEGIN:VCALENDAR
VERSION:2.0
PRODID:-//Rainbow Acres Campground - ECPv6.15.20//NONSGML v1.0//EN
CALSCALE:GREGORIAN
METHOD:PUBLISH
X-WR-CALNAME:Rainbow Acres Campground
X-ORIGINAL-URL:https://www.rainbowacrescampground.com
X-WR-CALDESC:Events for Rainbow Acres Campground
REFRESH-INTERVAL;VALUE=DURATION:PT1H
X-Robots-Tag:noindex
X-PUBLISHED-TTL:PT1H
BEGIN:VTIMEZONE
TZID:UTC
BEGIN:STANDARD
TZOFFSETFROM:+0000
TZOFFSETTO:+0000
TZNAME:UTC
DTSTART:20180101T000000
END:STANDARD
END:VTIMEZONE
BEGIN:VEVENT
DTSTART;TZID=UTC:20200523T080000
DTEND;TZID=UTC:20200525T170000
DTSTAMP:20260422T142627
CREATED:20200306T154635Z
LAST-MODIFIED:20200506T142302Z
UID:1370-1590220800-1590426000@www.rainbowacrescampground.com
SUMMARY:Memorial Day Weekend - CANCELLED
DESCRIPTION:23rd Cornhole Tournament (Chuck & Steve)-TBD\n1:00-4:00 Waterslide on Hill and Face Painting\n8:00 Dance on Beach
URL:https://www.rainbowacrescampground.com/event/memorial-day-weekend-6/
END:VEVENT
BEGIN:VEVENT
DTSTART;TZID=UTC:20200508T080000
DTEND;TZID=UTC:20200510T170000
DTSTAMP:20260422T142627
CREATED:20200306T154535Z
LAST-MODIFIED:20200420T134410Z
UID:1368-1588924800-1589130000@www.rainbowacrescampground.com
SUMMARY:Mother’s Day Weekend - CANCELLED
DESCRIPTION:9th 8:00 Dance on Beach\n10th 9:30 Mother’s Day Breakfast at P3
URL:https://www.rainbowacrescampground.com/event/mothers-day-weekend-5/
END:VEVENT
BEGIN:VEVENT
DTSTART;TZID=UTC:20200501T080000
DTEND;TZID=UTC:20200503T170000
DTSTAMP:20260422T142627
CREATED:20200306T154456Z
LAST-MODIFIED:20200420T134337Z
UID:1366-1588320000-1588525200@www.rainbowacrescampground.com
SUMMARY:BBQ Weekend - CANCELLED
DESCRIPTION:2nd – 6:00 BBQ on Beach by Tony Ramsey-bring a dish
URL:https://www.rainbowacrescampground.com/event/bbq-weekend/
END:VEVENT
BEGIN:VEVENT
DTSTART;TZID=UTC:20200425T190000
DTEND;TZID=UTC:20200425T210000
DTSTAMP:20260422T142627
CREATED:20200306T154316Z
LAST-MODIFIED:20200318T183428Z
UID:1364-1587841200-1587848400@www.rainbowacrescampground.com
SUMMARY:BINGO in Rec Hall - CANCELLED
DESCRIPTION:BINGO in Rec Hall @ 7p.m.
URL:https://www.rainbowacrescampground.com/event/bingo-in-rec-hall/
END:VEVENT
BEGIN:VEVENT
DTSTART;TZID=UTC:20200410T080000
DTEND;TZID=UTC:20200412T170000
DTSTAMP:20260422T142627
CREATED:20200306T154212Z
LAST-MODIFIED:20200318T183349Z
UID:1362-1586505600-1586710800@www.rainbowacrescampground.com
SUMMARY:Easter Weekend - CANCELLED
DESCRIPTION:11th 1:00 Easter Egg Hunt (Ages 1-5)\n2:00 Easter Egg Hunt (Ages 6-12)\n4:00 Adult Hunt (Linda & Carrie) \n12th Easter Sunday Service @ Rec Hall\n7:30 am – Brunch follows
URL:https://www.rainbowacrescampground.com/event/easter-weekend-5/
END:VEVENT
BEGIN:VEVENT
DTSTART;TZID=UTC:20200405T111500
DTEND;TZID=UTC:20200405T123000
DTSTAMP:20260422T142627
CREATED:20200306T160740Z
LAST-MODIFIED:20200318T183324Z
UID:1409-1586085300-1586089800@www.rainbowacrescampground.com
SUMMARY:CANCELLED - CHURCH SERVICES held every Sunday @ 11:15 a.m.
DESCRIPTION:CHURCH SERVICES held every Sunday @ 11:15 a.m. in the Rec. Hall w/ refreshments afterwards by the Campground Ministries. All religious dominations are welcome.
URL:https://www.rainbowacrescampground.com/event/church-services-held-every-sunday-1115-a-m/
END:VEVENT
BEGIN:VEVENT
DTSTART;VALUE=DATE:20200327
DTEND;VALUE=DATE:20200330
DTSTAMP:20260422T142627
CREATED:20200306T153940Z
LAST-MODIFIED:20200318T183255Z
UID:1360-1585267200-1585526399@www.rainbowacrescampground.com
SUMMARY:Clean Up Weekend - CANCELLED
DESCRIPTION:Hot dogs supplied by RACR-please bring a dish
URL:https://www.rainbowacrescampground.com/event/clean-up-weekend-3/
END:VEVENT
BEGIN:VEVENT
DTSTART;VALUE=DATE:20191115
DTEND;VALUE=DATE:20191118
DTSTAMP:20260422T142627
CREATED:20190404T161543Z
LAST-MODIFIED:20190404T161543Z
UID:1318-1573776000-1574035199@www.rainbowacrescampground.com
SUMMARY:Closing Weekend
DESCRIPTION:
URL:https://www.rainbowacrescampground.com/event/closing-weekend-4/
END:VEVENT
BEGIN:VEVENT
DTSTART;VALUE=DATE:20191101
DTEND;VALUE=DATE:20191104
DTSTAMP:20260422T142627
CREATED:20190404T161517Z
LAST-MODIFIED:20190404T161517Z
UID:1316-1572566400-1572825599@www.rainbowacrescampground.com
SUMMARY:Urbanna Oyster Festival
DESCRIPTION:Urbana Oyster Festival
URL:https://www.rainbowacrescampground.com/event/urbanna-oyster-festival-4/
END:VEVENT
BEGIN:VEVENT
DTSTART;VALUE=DATE:20191025
DTEND;VALUE=DATE:20191028
DTSTAMP:20260422T142627
CREATED:20190404T161443Z
LAST-MODIFIED:20190404T161443Z
UID:1314-1571961600-1572220799@www.rainbowacrescampground.com
SUMMARY:Halloween Weekend
DESCRIPTION:26th Soup Day (Pot Day – Bring your favorite choice or a dish – Pot must be started around 3:30 pm)\n5:30 Trick Or Treat\n7:00 Kids Costume Contest\n8:00 Dance in Rec Hall (DJ Brian)
URL:https://www.rainbowacrescampground.com/event/halloween-weekend-5/
END:VEVENT
BEGIN:VEVENT
DTSTART;VALUE=DATE:20191019
DTEND;VALUE=DATE:20191020
DTSTAMP:20260422T142627
CREATED:20190819T145619Z
LAST-MODIFIED:20190819T145619Z
UID:1339-1571443200-1571529599@www.rainbowacrescampground.com
SUMMARY:Relieve Your Anxiety - Teardown N-4
DESCRIPTION:Need only 6 to 10 strong men. Sign up at the Store by 10/15/19. RACR will supply lunch for our hard workers.
URL:https://www.rainbowacrescampground.com/event/relieve-your-anxiety-teardown-n-4/
END:VEVENT
BEGIN:VEVENT
DTSTART;TZID=UTC:20191012T140000
DTEND;TZID=UTC:20191012T170000
DTSTAMP:20260422T142627
CREATED:20190819T145400Z
LAST-MODIFIED:20190819T145400Z
UID:1337-1570888800-1570899600@www.rainbowacrescampground.com
SUMMARY:Arts & Alcohol
DESCRIPTION:2-5pm in the Rec Hall\nSIGN UP IN STORE
URL:https://www.rainbowacrescampground.com/event/arts-alcohol/
END:VEVENT
BEGIN:VEVENT
DTSTART;TZID=UTC:20191005T190000
DTEND;TZID=UTC:20191005T220000
DTSTAMP:20260422T142627
CREATED:20190819T145300Z
LAST-MODIFIED:20190916T131701Z
UID:1335-1570302000-1570312800@www.rainbowacrescampground.com
SUMMARY:Last Group Therapy
DESCRIPTION:Site A-1 from 7-10pm\nTheme is Relax In Your PJ’s
URL:https://www.rainbowacrescampground.com/event/last-group-therapy/
END:VEVENT
BEGIN:VEVENT
DTSTART;TZID=UTC:20190928T163000
DTEND;TZID=UTC:20190928T203000
DTSTAMP:20260422T142627
CREATED:20190404T161310Z
LAST-MODIFIED:20190404T161310Z
UID:1312-1569688200-1569702600@www.rainbowacrescampground.com
SUMMARY:Fry Day at the Boat Shed
DESCRIPTION:Fry Day at the Boat Shed
URL:https://www.rainbowacrescampground.com/event/fry-day-at-the-boat-shed/
END:VEVENT
BEGIN:VEVENT
DTSTART;TZID=UTC:20190921T190000
DTEND;TZID=UTC:20190921T210000
DTSTAMP:20260422T142627
CREATED:20190404T161232Z
LAST-MODIFIED:20190919T171141Z
UID:1310-1569092400-1569099600@www.rainbowacrescampground.com
SUMMARY:S’more Night - CANCELED
DESCRIPTION:S’more Night has been canceled. We apologize for the inconvenience.
URL:https://www.rainbowacrescampground.com/event/smore-night/
END:VEVENT
BEGIN:VEVENT
DTSTART;TZID=UTC:20190914T200000
DTEND;TZID=UTC:20190914T230000
DTSTAMP:20260422T142627
CREATED:20190404T161118Z
LAST-MODIFIED:20190404T161148Z
UID:1308-1568491200-1568502000@www.rainbowacrescampground.com
SUMMARY:Movie Night on Beach
DESCRIPTION:Movie Night on Beach with Brian
URL:https://www.rainbowacrescampground.com/event/movie-night-on-beach/
END:VEVENT
BEGIN:VEVENT
DTSTART;VALUE=DATE:20190901
DTEND;VALUE=DATE:20190902
DTSTAMP:20260422T142627
CREATED:20190819T145129Z
LAST-MODIFIED:20190819T145129Z
UID:1333-1567296000-1567382399@www.rainbowacrescampground.com
SUMMARY:Group Therapy - Margaritas & Cheese Burgers
DESCRIPTION:Bring your favorite drink & dish\nSite Y-16
URL:https://www.rainbowacrescampground.com/event/group-therapy-margaritas-cheese-burgers/
END:VEVENT
BEGIN:VEVENT
DTSTART;VALUE=DATE:20190831
DTEND;VALUE=DATE:20190903
DTSTAMP:20260422T142627
CREATED:20190404T161032Z
LAST-MODIFIED:20190404T161032Z
UID:1306-1567209600-1567468799@www.rainbowacrescampground.com
SUMMARY:Labor Day Weekend
DESCRIPTION:31st Waterslide on Hill 1:00-4:00 p.m.\nDance on Beach at 8:00 (DJ Brian)
URL:https://www.rainbowacrescampground.com/event/labor-day-weekend-6/
END:VEVENT
BEGIN:VEVENT
DTSTART;TZID=UTC:20190824T150000
DTEND;TZID=UTC:20190824T213000
DTSTAMP:20260422T142627
CREATED:20190404T160856Z
LAST-MODIFIED:20190819T141414Z
UID:1303-1566658800-1566682200@www.rainbowacrescampground.com
SUMMARY:Scavenger Hunt - HAS BEEN CANCELED
DESCRIPTION:We are sorry to announce the Scavenger Hunt for this weekend has been canceled. \n3:00 Kids Scavenger Hunt\n7:30 Adult Scavenger Hunt
URL:https://www.rainbowacrescampground.com/event/kids-scavenger-hunt/
END:VEVENT
BEGIN:VEVENT
DTSTART;TZID=UTC:20190720T140000
DTEND;TZID=UTC:20190720T170000
DTSTAMP:20260422T142627
CREATED:20190404T160732Z
LAST-MODIFIED:20190404T160732Z
UID:1299-1563631200-1563642000@www.rainbowacrescampground.com
SUMMARY:Water Balloon Games on Beach
DESCRIPTION:Water Balloon Games on Beach
URL:https://www.rainbowacrescampground.com/event/water-balloon-games-on-beach/
END:VEVENT
BEGIN:VEVENT
DTSTART;TZID=UTC:20190705T080000
DTEND;TZID=UTC:20190707T170000
DTSTAMP:20260422T142627
CREATED:20190404T160631Z
LAST-MODIFIED:20190404T160631Z
UID:1297-1562313600-1562518800@www.rainbowacrescampground.com
SUMMARY:July 4th Weekend
DESCRIPTION:5th Dance on Beach at 8:00 (DJ Brian)\n6th Waterslide on Hill 1:00 to 4:00\n9:00 Fireworks
URL:https://www.rainbowacrescampground.com/event/july-4th-weekend/
END:VEVENT
BEGIN:VEVENT
DTSTART;TZID=UTC:20190622T140000
DTEND;TZID=UTC:20190622T160000
DTSTAMP:20260422T142627
CREATED:20190404T160537Z
LAST-MODIFIED:20190404T160537Z
UID:1295-1561212000-1561219200@www.rainbowacrescampground.com
SUMMARY:Kidz Kool Aid & Kraft
DESCRIPTION:Kidz Kool Aid & Kraft (Rec Hall 2-4)\n(sign up in Store)
URL:https://www.rainbowacrescampground.com/event/kidz-kool-aid-kraft/
END:VEVENT
BEGIN:VEVENT
DTSTART;TZID=UTC:20190616T093000
DTEND;TZID=UTC:20190616T113000
DTSTAMP:20260422T142627
CREATED:20190404T160434Z
LAST-MODIFIED:20190404T160434Z
UID:1293-1560677400-1560684600@www.rainbowacrescampground.com
SUMMARY:Father’s Day Breakfast
DESCRIPTION:Father’s Day Breakfast at 9:30 – Site P3\n(Ladies-bring a breakfast dish)
URL:https://www.rainbowacrescampground.com/event/fathers-day-breakfast/
END:VEVENT
BEGIN:VEVENT
DTSTART;TZID=UTC:20190615T080000
DTEND;TZID=UTC:20190616T170000
DTSTAMP:20260422T142627
CREATED:20190404T160333Z
LAST-MODIFIED:20190404T160333Z
UID:1291-1560585600-1560704400@www.rainbowacrescampground.com
SUMMARY:2019 Mattaponi Madness Boat Race
DESCRIPTION:VODBA presents the annual Mattaponi Madness drag boat race at Rainbow Acres Campground in King and Queen County. Virginia Outlaw Drag Boat Association (VODBA) was created to maintain and enhance the sport of outboard & inboard drag boat racing. We invite and encourage members\, in good standing from other drag boat organizations\, to participate in our events. \nJune 15th & 16th\, 2019\nVODBA Mattaponi Madness Drag Boat Race – 2 DAY RACE\n​Starts Saturday 11am – Sunday 12pm \nCall (804)785-9441 today or book your campsite online. ****Our cabins are booked for this weekend.**** \nSpectator Tickets – $12 in advance – $15 at the gate. Kids 12 & Under are FREE \nBENEFITS: Mattaponi Volunteer Rescue Squad (Your ticket is your donation)\nFood\, Music\, Vendors\, Good\, Clean\, and FAST Family Fun!
URL:https://www.rainbowacrescampground.com/event/2019-mattaponi-madness-boat-race/
END:VEVENT
BEGIN:VEVENT
DTSTART;TZID=UTC:20190607T080000
DTEND;TZID=UTC:20190609T170000
DTSTAMP:20260422T142627
CREATED:20190404T160204Z
LAST-MODIFIED:20190404T160204Z
UID:1289-1559894400-1560099600@www.rainbowacrescampground.com
SUMMARY:8th RACR Fishing Tournament
DESCRIPTION:8th RACR Fishing Tournament (sign up at Store)\n$5 per person entry fee\nFree Fishing Weekend-No license required
URL:https://www.rainbowacrescampground.com/event/8th-racr-fishing-tournament/
END:VEVENT
BEGIN:VEVENT
DTSTART;TZID=UTC:20190601T150000
DTEND;TZID=UTC:20190601T170000
DTSTAMP:20260422T142627
CREATED:20190404T160016Z
LAST-MODIFIED:20190501T191057Z
UID:1285-1559401200-1559408400@www.rainbowacrescampground.com
SUMMARY:Rivah Wine & Design
DESCRIPTION:Rivah Wine & Design (Rec Hall 3-5)\nSign Up Sheet in Store – $10
URL:https://www.rainbowacrescampground.com/event/rivah-wine-design/
END:VEVENT
BEGIN:VEVENT
DTSTART;TZID=UTC:20190524T080000
DTEND;TZID=UTC:20190527T170000
DTSTAMP:20260422T142627
CREATED:20190404T155901Z
LAST-MODIFIED:20190404T155901Z
UID:1283-1558684800-1558976400@www.rainbowacrescampground.com
SUMMARY:Memorial Day Weekend
DESCRIPTION:25th Waterslide on Hill 1:00 to 4:00\nDance on the Beach at 8:00 (DJ Brian)
URL:https://www.rainbowacrescampground.com/event/memorial-day-weekend-5/
END:VEVENT
BEGIN:VEVENT
DTSTART;TZID=UTC:20190510T080000
DTEND;TZID=UTC:20190512T170000
DTSTAMP:20260422T142627
CREATED:20190404T155813Z
LAST-MODIFIED:20190404T155813Z
UID:1281-1557475200-1557680400@www.rainbowacrescampground.com
SUMMARY:Mother’s Day Weekend
DESCRIPTION:11th – Dance on Beach at 8:00 (DJ Brian)\n12th – Mother’s Day Breakfast at 9:30 a.m – Site P3
URL:https://www.rainbowacrescampground.com/event/mothers-day-weekend-4/
END:VEVENT
BEGIN:VEVENT
DTSTART;TZID=UTC:20190419T080000
DTEND;TZID=UTC:20190421T170000
DTSTAMP:20260422T142627
CREATED:20190404T160059Z
LAST-MODIFIED:20190404T160108Z
UID:1287-1555660800-1555866000@www.rainbowacrescampground.com
SUMMARY:Easter Weekend
DESCRIPTION:20th Easter Egg Hunt\n1:00 Egg Hunt for 0-5 yrs old
URL:https://www.rainbowacrescampground.com/event/easter-weekend-4/
END:VEVENT
BEGIN:VEVENT
DTSTART;VALUE=DATE:20190329
DTEND;VALUE=DATE:20190401
DTSTAMP:20260422T142627
CREATED:20190311T150726Z
LAST-MODIFIED:20190311T150726Z
UID:1263-1553817600-1554076799@www.rainbowacrescampground.com
SUMMARY:Clean up Weekend
DESCRIPTION:
URL:https://www.rainbowacrescampground.com/event/clean-up-weekend-2/
END:VEVENT
END:VCALENDAR