BEGIN:VCALENDAR
VERSION:2.0
PRODID:-//Rainbow Acres Campground - ECPv6.15.20//NONSGML v1.0//EN
CALSCALE:GREGORIAN
METHOD:PUBLISH
X-ORIGINAL-URL:https://www.rainbowacrescampground.com
X-WR-CALDESC:Events for Rainbow Acres Campground
REFRESH-INTERVAL;VALUE=DURATION:PT1H
X-Robots-Tag:noindex
X-PUBLISHED-TTL:PT1H
BEGIN:VTIMEZONE
TZID:UTC
BEGIN:STANDARD
TZOFFSETFROM:+0000
TZOFFSETTO:+0000
TZNAME:UTC
DTSTART:20180101T000000
END:STANDARD
END:VTIMEZONE
BEGIN:VEVENT
DTSTART;TZID=UTC:20201113T080000
DTEND;TZID=UTC:20201115T170000
DTSTAMP:20260422T112413
CREATED:20200306T160149Z
LAST-MODIFIED:20200306T160149Z
UID:1407-1605254400-1605459600@www.rainbowacrescampground.com
SUMMARY:Closing Weekend
DESCRIPTION:
URL:https://www.rainbowacrescampground.com/event/closing-weekend-5/
END:VEVENT
BEGIN:VEVENT
DTSTART;TZID=UTC:20201106T080000
DTEND;TZID=UTC:20201108T170000
DTSTAMP:20260422T112413
CREATED:20200306T160122Z
LAST-MODIFIED:20200306T160122Z
UID:1405-1604649600-1604854800@www.rainbowacrescampground.com
SUMMARY:RACR Thanksgiving Gathering
DESCRIPTION:RACR Thanksgiving Gathering\n7th DJ Scheduled for Dinner
URL:https://www.rainbowacrescampground.com/event/racr-thanksgiving-gathering/
END:VEVENT
BEGIN:VEVENT
DTSTART;VALUE=DATE:20201106
DTEND;VALUE=DATE:20201108
DTSTAMP:20260422T112413
CREATED:20200306T160042Z
LAST-MODIFIED:20200930T182626Z
UID:1402-1604620800-1604793599@www.rainbowacrescampground.com
SUMMARY:Urbanna Oyster Festival - CANCELLED
DESCRIPTION:
URL:https://www.rainbowacrescampground.com/event/urbanna-oyster-festival-5/
END:VEVENT
BEGIN:VEVENT
DTSTART;VALUE=DATE:20201030
DTEND;VALUE=DATE:20201101
DTSTAMP:20260422T112413
CREATED:20200306T160008Z
LAST-MODIFIED:20200306T160008Z
UID:1400-1604016000-1604188799@www.rainbowacrescampground.com
SUMMARY:Halloween Weekend
DESCRIPTION:31st 5:00 Trick or Treat\n7:00 Kids Costume Contest\n7:45 Adult Costume Contest\n8:00 Dance in Rec. Hall
URL:https://www.rainbowacrescampground.com/event/halloween-weekend-6/
END:VEVENT
BEGIN:VEVENT
DTSTART;TZID=UTC:20201024T163000
DTEND;TZID=UTC:20201024T193000
DTSTAMP:20260422T112413
CREATED:20200306T155927Z
LAST-MODIFIED:20200306T155927Z
UID:1398-1603557000-1603567800@www.rainbowacrescampground.com
SUMMARY:Pot Day
DESCRIPTION:4:30 Pot Day at P3-Everyone bring a pot\nof your favorite food.
URL:https://www.rainbowacrescampground.com/event/pot-day/
END:VEVENT
BEGIN:VEVENT
DTSTART;TZID=UTC:20201017T190000
DTEND;TZID=UTC:20201017T210000
DTSTAMP:20260422T112413
CREATED:20201009T163542Z
LAST-MODIFIED:20201009T163542Z
UID:1445-1602961200-1602968400@www.rainbowacrescampground.com
SUMMARY:Bingo
DESCRIPTION:Bingo at 7p.m. in the Rec Hall
URL:https://www.rainbowacrescampground.com/event/bingo-2/
END:VEVENT
BEGIN:VEVENT
DTSTART;TZID=UTC:20201010T140000
DTEND;TZID=UTC:20201010T170000
DTSTAMP:20260422T112413
CREATED:20200306T155844Z
LAST-MODIFIED:20200306T155844Z
UID:1396-1602338400-1602349200@www.rainbowacrescampground.com
SUMMARY:PAINT PARTY
DESCRIPTION:PAINT PARTY #2 @ 2pm Rec Hall
URL:https://www.rainbowacrescampground.com/event/paint-party-2/
END:VEVENT
BEGIN:VEVENT
DTSTART;TZID=UTC:20200926T080000
DTEND;TZID=UTC:20200927T170000
DTSTAMP:20260422T112413
CREATED:20200506T150631Z
LAST-MODIFIED:20200506T150631Z
UID:1425-1601107200-1601226000@www.rainbowacrescampground.com
SUMMARY:Mattaponi Madness Drag Boat Races
DESCRIPTION:September 26th & 27th\, 2020\nVODBA Mattaponi Madness Drag Boat Race  – 2 DAY RACE\n​Starts Saturday 11am  –  Sunday 12pm \nVODBA presents the annual Mattaponi Madness drag boat race at Rainbow Acres Campground in King and Queen County. Virginia Outlaw Drag Boat Association (VODBA) was created to maintain and enhance the sport of outboard & inboard drag boat racing. We invite and encourage members\, in good standing from other drag boat organizations\, to participate in our events. \nCall (804)785-9441 today or book your campsite online. ****Our cabins are booked for this weekend.**** \nSpectator Tickets – $12 in advance – $15 at the gate. Kids 12 & Under are FREE \nBENEFITS:    Mattaponi Volunteer Rescue Squad  (Your ticket is your donation)\nFood\, Music\, Vendors\, Good\, Clean\, and FAST Family Fun!
URL:https://www.rainbowacrescampground.com/event/mattaponi-madness-drag-boat-races/
END:VEVENT
BEGIN:VEVENT
DTSTART;TZID=UTC:20200919T163000
DTEND;TZID=UTC:20200919T193000
DTSTAMP:20260422T112413
CREATED:20200306T155759Z
LAST-MODIFIED:20200306T155759Z
UID:1394-1600533000-1600543800@www.rainbowacrescampground.com
SUMMARY:Fry Day-Boat Shed
DESCRIPTION:4:30 Fry Day-Boat Shed\nEveryone bring a dish.
URL:https://www.rainbowacrescampground.com/event/fry-day-boat-shed/
END:VEVENT
BEGIN:VEVENT
DTSTART;TZID=UTC:20200912T200000
DTEND;TZID=UTC:20200912T230000
DTSTAMP:20260422T112413
CREATED:20200306T155646Z
LAST-MODIFIED:20200306T155646Z
UID:1392-1599940800-1599951600@www.rainbowacrescampground.com
SUMMARY:Movie Night on the Beach
DESCRIPTION:8:00pm Movie Night on the Beach
URL:https://www.rainbowacrescampground.com/event/movie-night-on-the-beach/
END:VEVENT
BEGIN:VEVENT
DTSTART;VALUE=DATE:20200904
DTEND;VALUE=DATE:20200908
DTSTAMP:20260422T112413
CREATED:20200306T155559Z
LAST-MODIFIED:20200306T155559Z
UID:1390-1599177600-1599523199@www.rainbowacrescampground.com
SUMMARY:Labor Day Weekend
DESCRIPTION:5th Cornhole Tournament (Chuck & Steve) TBD\n1:00-4:00 Waterslide on Hill and Face Painting\n8:00 Dance in Rec. Hall
URL:https://www.rainbowacrescampground.com/event/labor-day-weekend-7/
END:VEVENT
BEGIN:VEVENT
DTSTART;TZID=UTC:20200815T200000
DTEND;TZID=UTC:20200815T230000
DTSTAMP:20260422T112413
CREATED:20200306T155513Z
LAST-MODIFIED:20200306T155513Z
UID:1388-1597521600-1597532400@www.rainbowacrescampground.com
SUMMARY:DECADE DANCE (70’s 80’s & 90’s)
DESCRIPTION:DECADE DANCE (70’s; 80’s & 90’s)\n8:00 PM – Rec. Hall.\nCOMES AS YOUR FAVORITE ERA
URL:https://www.rainbowacrescampground.com/event/decade-dance-70s-80s-90s/
END:VEVENT
BEGIN:VEVENT
DTSTART;TZID=UTC:20200717T190000
DTEND;TZID=UTC:20200717T210000
DTSTAMP:20260422T112413
CREATED:20200306T155413Z
LAST-MODIFIED:20200306T155413Z
UID:1386-1595012400-1595019600@www.rainbowacrescampground.com
SUMMARY:BINGO
DESCRIPTION:BINGO @ 7PM
URL:https://www.rainbowacrescampground.com/event/bingo/
END:VEVENT
BEGIN:VEVENT
DTSTART;TZID=UTC:20200706T080000
DTEND;TZID=UTC:20200710T170000
DTSTAMP:20260422T112413
CREATED:20200306T155328Z
LAST-MODIFIED:20200306T155328Z
UID:1384-1594022400-1594400400@www.rainbowacrescampground.com
SUMMARY:Vacation Bible School by Campground Ministries
DESCRIPTION:Week of July 6- 10th Vacation Bible School by Campground Ministries (Recreation Hall) – 10 a.m. the Train will pick up & drop off each day. All ages WELCOME.
URL:https://www.rainbowacrescampground.com/event/vacation-bible-school-by-campground-ministries/
END:VEVENT
BEGIN:VEVENT
DTSTART;TZID=UTC:20200703T080000
DTEND;TZID=UTC:20200705T170000
DTSTAMP:20260422T112413
CREATED:20200306T155230Z
LAST-MODIFIED:20200626T134643Z
UID:1382-1593763200-1593968400@www.rainbowacrescampground.com
SUMMARY:4th of July Weekend
DESCRIPTION:4th Cornhole Tournament \nSign up 10-11 a.m.\nStart Playing at Noon\nGolf Cart Parade-TBD\n1:00-4:00 Fun Afternoon on Hill\n8:00 Dance on Beach \n9:00 Fireworks – NOT open to the public this year. We appreciate your understanding and stay healthy.
URL:https://www.rainbowacrescampground.com/event/4th-of-july-weekend/
END:VEVENT
BEGIN:VEVENT
DTSTART;TZID=UTC:20200627T140000
DTEND;TZID=UTC:20200627T160000
DTSTAMP:20260422T112413
CREATED:20200306T155041Z
LAST-MODIFIED:20200626T134737Z
UID:1380-1593266400-1593273600@www.rainbowacrescampground.com
SUMMARY:PAINT PARTY
DESCRIPTION:27th PAINT PARTY @ 2pm in Rec Hall postponed
URL:https://www.rainbowacrescampground.com/event/paint-party/
END:VEVENT
BEGIN:VEVENT
DTSTART;TZID=UTC:20200621T111500
DTEND;TZID=UTC:20200621T123000
DTSTAMP:20260422T112413
CREATED:20200306T164918Z
LAST-MODIFIED:20200306T164918Z
UID:1411-1592738100-1592742600@www.rainbowacrescampground.com
SUMMARY:CHURCH SERVICES (relocated to campsite W-14)
DESCRIPTION:Today’s service will be held at campsite W-14 @ 11:15 a.m. \nServices by Campground Ministries. Refreshments to follow. All religious dominations are welcome.
URL:https://www.rainbowacrescampground.com/event/church-services-relocated-to-campsite-w-14/
END:VEVENT
BEGIN:VEVENT
DTSTART;TZID=UTC:20200621T093000
DTEND;TZID=UTC:20200621T113000
DTSTAMP:20260422T112413
CREATED:20200306T154934Z
LAST-MODIFIED:20200306T154934Z
UID:1378-1592731800-1592739000@www.rainbowacrescampground.com
SUMMARY:Father’s Day Breakfast
DESCRIPTION:9:30 Father’s Day Breakfast P3
URL:https://www.rainbowacrescampground.com/event/fathers-day-breakfast-2/
END:VEVENT
BEGIN:VEVENT
DTSTART;TZID=UTC:20200612T080000
DTEND;TZID=UTC:20200614T170000
DTSTAMP:20260422T112413
CREATED:20200306T154753Z
LAST-MODIFIED:20200306T154753Z
UID:1374-1591948800-1592154000@www.rainbowacrescampground.com
SUMMARY:Special Event in Rec. Hall
DESCRIPTION:
URL:https://www.rainbowacrescampground.com/event/special-event-in-rec-hall/
END:VEVENT
BEGIN:VEVENT
DTSTART;TZID=UTC:20200605T080000
DTEND;TZID=UTC:20200607T170000
DTSTAMP:20260422T112413
CREATED:20200306T154711Z
LAST-MODIFIED:20200515T135744Z
UID:1372-1591344000-1591549200@www.rainbowacrescampground.com
SUMMARY:Fishing for ALL - CANCELLED
DESCRIPTION:License Free Weekend
URL:https://www.rainbowacrescampground.com/event/fishing-for-all-license-free-weekend/
END:VEVENT
BEGIN:VEVENT
DTSTART;TZID=UTC:20200523T080000
DTEND;TZID=UTC:20200525T170000
DTSTAMP:20260422T112413
CREATED:20200306T154635Z
LAST-MODIFIED:20200506T142302Z
UID:1370-1590220800-1590426000@www.rainbowacrescampground.com
SUMMARY:Memorial Day Weekend - CANCELLED
DESCRIPTION:23rd Cornhole Tournament (Chuck & Steve)-TBD\n1:00-4:00 Waterslide on Hill and Face Painting\n8:00 Dance on Beach
URL:https://www.rainbowacrescampground.com/event/memorial-day-weekend-6/
END:VEVENT
BEGIN:VEVENT
DTSTART;TZID=UTC:20200508T080000
DTEND;TZID=UTC:20200510T170000
DTSTAMP:20260422T112413
CREATED:20200306T154535Z
LAST-MODIFIED:20200420T134410Z
UID:1368-1588924800-1589130000@www.rainbowacrescampground.com
SUMMARY:Mother’s Day Weekend - CANCELLED
DESCRIPTION:9th 8:00 Dance on Beach\n10th 9:30 Mother’s Day Breakfast at P3
URL:https://www.rainbowacrescampground.com/event/mothers-day-weekend-5/
END:VEVENT
BEGIN:VEVENT
DTSTART;TZID=UTC:20200501T080000
DTEND;TZID=UTC:20200503T170000
DTSTAMP:20260422T112413
CREATED:20200306T154456Z
LAST-MODIFIED:20200420T134337Z
UID:1366-1588320000-1588525200@www.rainbowacrescampground.com
SUMMARY:BBQ Weekend - CANCELLED
DESCRIPTION:2nd – 6:00 BBQ on Beach by Tony Ramsey-bring a dish
URL:https://www.rainbowacrescampground.com/event/bbq-weekend/
END:VEVENT
BEGIN:VEVENT
DTSTART;TZID=UTC:20200425T190000
DTEND;TZID=UTC:20200425T210000
DTSTAMP:20260422T112413
CREATED:20200306T154316Z
LAST-MODIFIED:20200318T183428Z
UID:1364-1587841200-1587848400@www.rainbowacrescampground.com
SUMMARY:BINGO in Rec Hall - CANCELLED
DESCRIPTION:BINGO in Rec Hall @ 7p.m.
URL:https://www.rainbowacrescampground.com/event/bingo-in-rec-hall/
END:VEVENT
BEGIN:VEVENT
DTSTART;TZID=UTC:20200410T080000
DTEND;TZID=UTC:20200412T170000
DTSTAMP:20260422T112413
CREATED:20200306T154212Z
LAST-MODIFIED:20200318T183349Z
UID:1362-1586505600-1586710800@www.rainbowacrescampground.com
SUMMARY:Easter Weekend - CANCELLED
DESCRIPTION:11th 1:00 Easter Egg Hunt (Ages 1-5)\n2:00 Easter Egg Hunt (Ages 6-12)\n4:00 Adult Hunt (Linda & Carrie) \n12th Easter Sunday Service @ Rec Hall\n7:30 am – Brunch follows
URL:https://www.rainbowacrescampground.com/event/easter-weekend-5/
END:VEVENT
BEGIN:VEVENT
DTSTART;TZID=UTC:20200405T111500
DTEND;TZID=UTC:20200405T123000
DTSTAMP:20260422T112413
CREATED:20200306T160740Z
LAST-MODIFIED:20200318T183324Z
UID:1409-1586085300-1586089800@www.rainbowacrescampground.com
SUMMARY:CANCELLED - CHURCH SERVICES held every Sunday @ 11:15 a.m.
DESCRIPTION:CHURCH SERVICES held every Sunday @ 11:15 a.m. in the Rec. Hall w/ refreshments afterwards by the Campground Ministries. All religious dominations are welcome.
URL:https://www.rainbowacrescampground.com/event/church-services-held-every-sunday-1115-a-m/
END:VEVENT
BEGIN:VEVENT
DTSTART;VALUE=DATE:20200327
DTEND;VALUE=DATE:20200330
DTSTAMP:20260422T112413
CREATED:20200306T153940Z
LAST-MODIFIED:20200318T183255Z
UID:1360-1585267200-1585526399@www.rainbowacrescampground.com
SUMMARY:Clean Up Weekend - CANCELLED
DESCRIPTION:Hot dogs supplied by RACR-please bring a dish
URL:https://www.rainbowacrescampground.com/event/clean-up-weekend-3/
END:VEVENT
BEGIN:VEVENT
DTSTART;VALUE=DATE:20191115
DTEND;VALUE=DATE:20191118
DTSTAMP:20260422T112413
CREATED:20190404T161543Z
LAST-MODIFIED:20190404T161543Z
UID:1318-1573776000-1574035199@www.rainbowacrescampground.com
SUMMARY:Closing Weekend
DESCRIPTION:
URL:https://www.rainbowacrescampground.com/event/closing-weekend-4/
END:VEVENT
BEGIN:VEVENT
DTSTART;VALUE=DATE:20191101
DTEND;VALUE=DATE:20191104
DTSTAMP:20260422T112413
CREATED:20190404T161517Z
LAST-MODIFIED:20190404T161517Z
UID:1316-1572566400-1572825599@www.rainbowacrescampground.com
SUMMARY:Urbanna Oyster Festival
DESCRIPTION:Urbana Oyster Festival
URL:https://www.rainbowacrescampground.com/event/urbanna-oyster-festival-4/
END:VEVENT
BEGIN:VEVENT
DTSTART;VALUE=DATE:20191025
DTEND;VALUE=DATE:20191028
DTSTAMP:20260422T112413
CREATED:20190404T161443Z
LAST-MODIFIED:20190404T161443Z
UID:1314-1571961600-1572220799@www.rainbowacrescampground.com
SUMMARY:Halloween Weekend
DESCRIPTION:26th Soup Day (Pot Day – Bring your favorite choice or a dish – Pot must be started around 3:30 pm)\n5:30 Trick Or Treat\n7:00 Kids Costume Contest\n8:00 Dance in Rec Hall (DJ Brian)
URL:https://www.rainbowacrescampground.com/event/halloween-weekend-5/
END:VEVENT
END:VCALENDAR