BEGIN:VCALENDAR
VERSION:2.0
PRODID:-//Rainbow Acres Campground - ECPv6.15.20//NONSGML v1.0//EN
CALSCALE:GREGORIAN
METHOD:PUBLISH
X-ORIGINAL-URL:https://www.rainbowacrescampground.com
X-WR-CALDESC:Events for Rainbow Acres Campground
REFRESH-INTERVAL;VALUE=DURATION:PT1H
X-Robots-Tag:noindex
X-PUBLISHED-TTL:PT1H
BEGIN:VTIMEZONE
TZID:UTC
BEGIN:STANDARD
TZOFFSETFROM:+0000
TZOFFSETTO:+0000
TZNAME:UTC
DTSTART:20200101T000000
END:STANDARD
END:VTIMEZONE
BEGIN:VEVENT
DTSTART;VALUE=DATE:20211029
DTEND;VALUE=DATE:20211101
DTSTAMP:20260420T055428
CREATED:20210225T190321Z
LAST-MODIFIED:20210225T190334Z
UID:1529-1635465600-1635724799@www.rainbowacrescampground.com
SUMMARY:Halloween Weekend
DESCRIPTION:Halloween Weekend\nWith lots of activities\, contests and dance
URL:https://www.rainbowacrescampground.com/event/halloween-weekend-7/
END:VEVENT
BEGIN:VEVENT
DTSTART;VALUE=DATE:20211023
DTEND;VALUE=DATE:20211024
DTSTAMP:20260420T055428
CREATED:20210225T190248Z
LAST-MODIFIED:20210225T190248Z
UID:1527-1634947200-1635033599@www.rainbowacrescampground.com
SUMMARY:“Pot” Day
DESCRIPTION:“Pot” Day
URL:https://www.rainbowacrescampground.com/event/pot-day-2/
END:VEVENT
BEGIN:VEVENT
DTSTART;VALUE=DATE:20211016
DTEND;VALUE=DATE:20211017
DTSTAMP:20260420T055428
CREATED:20210225T190215Z
LAST-MODIFIED:20210225T190215Z
UID:1525-1634342400-1634428799@www.rainbowacrescampground.com
SUMMARY:Craft Class
DESCRIPTION:Craft Class w/ Shannon Group Therapy
URL:https://www.rainbowacrescampground.com/event/craft-class/
END:VEVENT
BEGIN:VEVENT
DTSTART;VALUE=DATE:20211009
DTEND;VALUE=DATE:20211010
DTSTAMP:20260420T055428
CREATED:20210225T190136Z
LAST-MODIFIED:20210225T190136Z
UID:1523-1633737600-1633823999@www.rainbowacrescampground.com
SUMMARY:Bingo
DESCRIPTION:Bingo
URL:https://www.rainbowacrescampground.com/event/bingo-8/
END:VEVENT
BEGIN:VEVENT
DTSTART;VALUE=DATE:20210925
DTEND;VALUE=DATE:20210927
DTSTAMP:20260420T055428
CREATED:20210225T190027Z
LAST-MODIFIED:20210225T190027Z
UID:1519-1632528000-1632700799@www.rainbowacrescampground.com
SUMMARY:Drag Boat Races (VODBA)
DESCRIPTION:Drag Boat Races (VODBA)
URL:https://www.rainbowacrescampground.com/event/drag-boat-races-vodba/
END:VEVENT
BEGIN:VEVENT
DTSTART;VALUE=DATE:20210918
DTEND;VALUE=DATE:20210919
DTSTAMP:20260420T055428
CREATED:20210225T185939Z
LAST-MODIFIED:20210914T170053Z
UID:1517-1631923200-1632009599@www.rainbowacrescampground.com
SUMMARY:“Fry”day
DESCRIPTION:“Fry”day
URL:https://www.rainbowacrescampground.com/event/fryday/
END:VEVENT
BEGIN:VEVENT
DTSTART;VALUE=DATE:20210918
DTEND;VALUE=DATE:20210919
DTSTAMP:20260420T055428
CREATED:20210225T185859Z
LAST-MODIFIED:20210225T185859Z
UID:1515-1631923200-1632009599@www.rainbowacrescampground.com
SUMMARY:Bonfire Movie Night
DESCRIPTION:Bonfire Movie Night
URL:https://www.rainbowacrescampground.com/event/bonfire-movie-night/
END:VEVENT
BEGIN:VEVENT
DTSTART;VALUE=DATE:20210911
DTEND;VALUE=DATE:20210912
DTSTAMP:20260420T055428
CREATED:20210225T185828Z
LAST-MODIFIED:20210225T185828Z
UID:1513-1631318400-1631404799@www.rainbowacrescampground.com
SUMMARY:Bingo
DESCRIPTION:Bingo
URL:https://www.rainbowacrescampground.com/event/bingo-7/
END:VEVENT
BEGIN:VEVENT
DTSTART;VALUE=DATE:20210904
DTEND;VALUE=DATE:20210905
DTSTAMP:20260420T055428
CREATED:20210225T185740Z
LAST-MODIFIED:20210225T185740Z
UID:1509-1630713600-1630799999@www.rainbowacrescampground.com
SUMMARY:Dance on the Beach
DESCRIPTION:Dance on the Beach
URL:https://www.rainbowacrescampground.com/event/dance-on-the-beach/
END:VEVENT
BEGIN:VEVENT
DTSTART;VALUE=DATE:20210903
DTEND;VALUE=DATE:20210906
DTSTAMP:20260420T055428
CREATED:20210225T185715Z
LAST-MODIFIED:20210225T185715Z
UID:1507-1630627200-1630886399@www.rainbowacrescampground.com
SUMMARY:Labor Day Weekend
DESCRIPTION:Labor Day Weekend w/ activities for the grown-ups & kids and includes a dance on the beach
URL:https://www.rainbowacrescampground.com/event/labor-day-weekend-8/
END:VEVENT
BEGIN:VEVENT
DTSTART;VALUE=DATE:20210821
DTEND;VALUE=DATE:20210822
DTSTAMP:20260420T055428
CREATED:20210225T185558Z
LAST-MODIFIED:20210225T185558Z
UID:1503-1629504000-1629590399@www.rainbowacrescampground.com
SUMMARY:Back to School Night
DESCRIPTION:Back to School Night (kids)
URL:https://www.rainbowacrescampground.com/event/back-to-school-night/
END:VEVENT
BEGIN:VEVENT
DTSTART;VALUE=DATE:20210821
DTEND;VALUE=DATE:20210822
DTSTAMP:20260420T055428
CREATED:20210225T185527Z
LAST-MODIFIED:20210225T185527Z
UID:1501-1629504000-1629590399@www.rainbowacrescampground.com
SUMMARY:Texas Hold Em
DESCRIPTION:Texas Hold Em
URL:https://www.rainbowacrescampground.com/event/texas-hold-em-2/
END:VEVENT
BEGIN:VEVENT
DTSTART;VALUE=DATE:20210814
DTEND;VALUE=DATE:20210815
DTSTAMP:20260420T055428
CREATED:20210225T185454Z
LAST-MODIFIED:20210225T185454Z
UID:1499-1628899200-1628985599@www.rainbowacrescampground.com
SUMMARY:Bingo
DESCRIPTION:Bingo
URL:https://www.rainbowacrescampground.com/event/bingo-6/
END:VEVENT
BEGIN:VEVENT
DTSTART;VALUE=DATE:20210807
DTEND;VALUE=DATE:20210808
DTSTAMP:20260420T055428
CREATED:20210225T185428Z
LAST-MODIFIED:20210225T185428Z
UID:1497-1628294400-1628380799@www.rainbowacrescampground.com
SUMMARY:Parents Night OFF
DESCRIPTION:Parents Night OFF (Kid fun night)
URL:https://www.rainbowacrescampground.com/event/parents-night-off/
END:VEVENT
BEGIN:VEVENT
DTSTART;VALUE=DATE:20210731
DTEND;VALUE=DATE:20210801
DTSTAMP:20260420T055428
CREATED:20210225T185343Z
LAST-MODIFIED:20210225T185343Z
UID:1495-1627689600-1627775999@www.rainbowacrescampground.com
SUMMARY:Movie Night
DESCRIPTION:Movie Night on the Beach
URL:https://www.rainbowacrescampground.com/event/movie-night/
END:VEVENT
BEGIN:VEVENT
DTSTART;VALUE=DATE:20210717
DTEND;VALUE=DATE:20210718
DTSTAMP:20260420T055428
CREATED:20210225T185238Z
LAST-MODIFIED:20210225T185238Z
UID:1491-1626480000-1626566399@www.rainbowacrescampground.com
SUMMARY:Kids Crafts and Chill
DESCRIPTION:Kids Crafts and Chill
URL:https://www.rainbowacrescampground.com/event/kids-crafts-and-chill/
END:VEVENT
BEGIN:VEVENT
DTSTART;VALUE=DATE:20210710
DTEND;VALUE=DATE:20210711
DTSTAMP:20260420T055428
CREATED:20210225T185209Z
LAST-MODIFIED:20210225T185209Z
UID:1489-1625875200-1625961599@www.rainbowacrescampground.com
SUMMARY:Bingo
DESCRIPTION:Bingo
URL:https://www.rainbowacrescampground.com/event/bingo-5/
END:VEVENT
BEGIN:VEVENT
DTSTART;VALUE=DATE:20210704
DTEND;VALUE=DATE:20210705
DTSTAMP:20260420T055428
CREATED:20210225T185143Z
LAST-MODIFIED:20210225T185143Z
UID:1487-1625356800-1625443199@www.rainbowacrescampground.com
SUMMARY:Fireworks
DESCRIPTION:Fireworks
URL:https://www.rainbowacrescampground.com/event/fireworks/
END:VEVENT
BEGIN:VEVENT
DTSTART;VALUE=DATE:20210703
DTEND;VALUE=DATE:20210704
DTSTAMP:20260420T055428
CREATED:20210225T185119Z
LAST-MODIFIED:20210225T185119Z
UID:1485-1625270400-1625356799@www.rainbowacrescampground.com
SUMMARY:Cornhole Tournament
DESCRIPTION:Cornhole Tournament (sign-up @ 10:30 am & play @ 11am) 3rd ~ Dance on the Beach
URL:https://www.rainbowacrescampground.com/event/cornhole-tournament/
END:VEVENT
BEGIN:VEVENT
DTSTART;VALUE=DATE:20210702
DTEND;VALUE=DATE:20210705
DTSTAMP:20260420T055428
CREATED:20210225T185046Z
LAST-MODIFIED:20210225T185046Z
UID:1483-1625184000-1625443199@www.rainbowacrescampground.com
SUMMARY:4TH of July Weekend
DESCRIPTION:4TH of July Weekend w/ activities for the grown-ups & kids and includes a dance on the beach
URL:https://www.rainbowacrescampground.com/event/4th-of-july-weekend-2/
END:VEVENT
BEGIN:VEVENT
DTSTART;VALUE=DATE:20210626
DTEND;VALUE=DATE:20210627
DTSTAMP:20260420T055428
CREATED:20210225T185000Z
LAST-MODIFIED:20210225T185000Z
UID:1481-1624665600-1624751999@www.rainbowacrescampground.com
SUMMARY:Group Therapy
DESCRIPTION:Group Therapy
URL:https://www.rainbowacrescampground.com/event/group-therapy-2/
END:VEVENT
BEGIN:VEVENT
DTSTART;VALUE=DATE:20210620
DTEND;VALUE=DATE:20210621
DTSTAMP:20260420T055428
CREATED:20210225T184926Z
LAST-MODIFIED:20210225T184926Z
UID:1479-1624147200-1624233599@www.rainbowacrescampground.com
SUMMARY:Father’s Day Breakfast
DESCRIPTION:Father’s Day Breakfast @ P3
URL:https://www.rainbowacrescampground.com/event/fathers-day-breakfast-3/
END:VEVENT
BEGIN:VEVENT
DTSTART;VALUE=DATE:20210612
DTEND;VALUE=DATE:20210613
DTSTAMP:20260420T055428
CREATED:20210225T184831Z
LAST-MODIFIED:20210225T184831Z
UID:1475-1623456000-1623542399@www.rainbowacrescampground.com
SUMMARY:Father’s Day Craft
DESCRIPTION:Father’s Day Craft
URL:https://www.rainbowacrescampground.com/event/fathers-day-craft/
END:VEVENT
BEGIN:VEVENT
DTSTART;VALUE=DATE:20210605
DTEND;VALUE=DATE:20210606
DTSTAMP:20260420T055428
CREATED:20210225T184812Z
LAST-MODIFIED:20210225T184812Z
UID:1473-1622851200-1622937599@www.rainbowacrescampground.com
SUMMARY:Texas Hold Em
DESCRIPTION:Texas Hold Em
URL:https://www.rainbowacrescampground.com/event/texas-hold-em/
END:VEVENT
BEGIN:VEVENT
DTSTART;TZID=UTC:20210530T110000
DTEND;TZID=UTC:20210530T170000
DTSTAMP:20260420T055428
CREATED:20210507T174719Z
LAST-MODIFIED:20210507T174719Z
UID:1563-1622372400-1622394000@www.rainbowacrescampground.com
SUMMARY:Memorial Weekend Sunday Activities
DESCRIPTION:11:00 AM ~ Tie Dye Shirts @ Playground\n1:00 PM ~ Games @ Playground
URL:https://www.rainbowacrescampground.com/event/memorial-weekend-sunday-activities/
END:VEVENT
BEGIN:VEVENT
DTSTART;TZID=UTC:20210529T130000
DTEND;TZID=UTC:20210529T160000
DTSTAMP:20260420T055428
CREATED:20210507T174631Z
LAST-MODIFIED:20210507T174631Z
UID:1561-1622293200-1622304000@www.rainbowacrescampground.com
SUMMARY:Memorial Weekend Saturday Activities
DESCRIPTION:1:00 PM – 4:00 PM ~ Blow up fun on the Hill! Face Painting too!
URL:https://www.rainbowacrescampground.com/event/memorial-weekend-saturday-activities/
END:VEVENT
BEGIN:VEVENT
DTSTART;TZID=UTC:20210528T190000
DTEND;TZID=UTC:20210528T220000
DTSTAMP:20260420T055428
CREATED:20210507T174509Z
LAST-MODIFIED:20210507T174509Z
UID:1558-1622228400-1622239200@www.rainbowacrescampground.com
SUMMARY:Movie Night
DESCRIPTION:7:00 PM ~ Movie in Rec. Hall (bring your own drink\, popcorn provided)
URL:https://www.rainbowacrescampground.com/event/movie-night-3/
END:VEVENT
BEGIN:VEVENT
DTSTART;TZID=UTC:20210522T180000
DTEND;TZID=UTC:20210522T200000
DTSTAMP:20260420T055428
CREATED:20210225T184649Z
LAST-MODIFIED:20210507T174304Z
UID:1469-1621706400-1621713600@www.rainbowacrescampground.com
SUMMARY:Group Therapy
DESCRIPTION:6:00 PM ~ Group Therapy and BBQ on Beach by Tony and Clyde
URL:https://www.rainbowacrescampground.com/event/group-therapy/
END:VEVENT
BEGIN:VEVENT
DTSTART;TZID=UTC:20210515T190000
DTEND;TZID=UTC:20210515T220000
DTSTAMP:20260420T055428
CREATED:20210225T184506Z
LAST-MODIFIED:20210507T174133Z
UID:1463-1621105200-1621116000@www.rainbowacrescampground.com
SUMMARY:Bingo
DESCRIPTION:Evening of Bingo
URL:https://www.rainbowacrescampground.com/event/bingo-4/
END:VEVENT
BEGIN:VEVENT
DTSTART;TZID=UTC:20210509T090000
DTEND;TZID=UTC:20210509T113000
DTSTAMP:20260420T055428
CREATED:20210225T184612Z
LAST-MODIFIED:20210507T173542Z
UID:1467-1620550800-1620559800@www.rainbowacrescampground.com
SUMMARY:Mother’s Day Breakfast
DESCRIPTION:Mother’s Day Breakfast @Potomac 3 (P3)
URL:https://www.rainbowacrescampground.com/event/mothers-day-breakfast/
END:VEVENT
END:VCALENDAR